BEGIN:VCALENDAR
VERSION:2.0
PRODID:-//Faith Baptist Church - Vernon BC - ECPv6.8.1//NONSGML v1.0//EN
CALSCALE:GREGORIAN
METHOD:PUBLISH
X-WR-CALNAME:Faith Baptist Church - Vernon BC
X-ORIGINAL-URL:https://faithbaptistvernon.com
X-WR-CALDESC:Events for Faith Baptist Church - Vernon BC
REFRESH-INTERVAL;VALUE=DURATION:PT1H
X-Robots-Tag:noindex
X-PUBLISHED-TTL:PT1H
BEGIN:VTIMEZONE
TZID:America/Vancouver
BEGIN:DAYLIGHT
TZOFFSETFROM:-0800
TZOFFSETTO:-0700
TZNAME:PDT
DTSTART:20250309T100000
END:DAYLIGHT
BEGIN:STANDARD
TZOFFSETFROM:-0700
TZOFFSETTO:-0800
TZNAME:PST
DTSTART:20251102T090000
END:STANDARD
END:VTIMEZONE
BEGIN:VEVENT
DTSTART;TZID=America/Vancouver:20250531T100000
DTEND;TZID=America/Vancouver:20250531T120000
DTSTAMP:20260425T052441
CREATED:20250527T193928Z
LAST-MODIFIED:20250527T193928Z
UID:4078-1748685600-1748692800@faithbaptistvernon.com
SUMMARY:Saturday Prayer Meeting
DESCRIPTION:You are welcome to come and join us for our Saturday morning prayer meeting. We come to share\, sing\, and pray together\, as we uplift each other in prayer and pray for our church\, city\, province\, and country.
URL:https://faithbaptistvernon.com/event/saturday-prayer-meeting-56/
LOCATION:Faith Baptist Church\, 3908 27 St\, Vernon\, BC\, V1T 4X7
ATTACH;FMTTYPE=image/png:https://faithbaptistvernon.com/wp-content/uploads/2024/02/Service-Slides-12.png
END:VEVENT
END:VCALENDAR