BEGIN:VCALENDAR
VERSION:2.0
PRODID:-//Faith Baptist Church - Vernon BC - ECPv6.8.1//NONSGML v1.0//EN
CALSCALE:GREGORIAN
METHOD:PUBLISH
X-WR-CALNAME:Faith Baptist Church - Vernon BC
X-ORIGINAL-URL:https://faithbaptistvernon.com
X-WR-CALDESC:Events for Faith Baptist Church - Vernon BC
REFRESH-INTERVAL;VALUE=DURATION:PT1H
X-Robots-Tag:noindex
X-PUBLISHED-TTL:PT1H
BEGIN:VTIMEZONE
TZID:America/Vancouver
BEGIN:DAYLIGHT
TZOFFSETFROM:-0800
TZOFFSETTO:-0700
TZNAME:PDT
DTSTART:20250309T100000
END:DAYLIGHT
BEGIN:STANDARD
TZOFFSETFROM:-0700
TZOFFSETTO:-0800
TZNAME:PST
DTSTART:20251102T090000
END:STANDARD
END:VTIMEZONE
BEGIN:VEVENT
DTSTART;TZID=America/Vancouver:20250810T100000
DTEND;TZID=America/Vancouver:20250810T120000
DTSTAMP:20260423T020513
CREATED:20250708T180518Z
LAST-MODIFIED:20250731T173907Z
UID:4154-1754820000-1754827200@faithbaptistvernon.com
SUMMARY:Sunday Worship Service
DESCRIPTION:Please join us for our Sunday Worship Service! Joel Liman will be giving us the Word this morning. We hope you can make it!
URL:https://faithbaptistvernon.com/event/sunday-worship-service-65/
LOCATION:Faith Baptist Church\, 3908 27 St\, Vernon\, BC\, V1T 4X7
ATTACH;FMTTYPE=image/png:https://faithbaptistvernon.com/wp-content/uploads/2024/01/Sunday-Service.png
END:VEVENT
END:VCALENDAR