BEGIN:VCALENDAR
VERSION:2.0
PRODID:-//Faith Baptist Church - Vernon BC - ECPv6.8.1//NONSGML v1.0//EN
CALSCALE:GREGORIAN
METHOD:PUBLISH
X-ORIGINAL-URL:https://faithbaptistvernon.com
X-WR-CALDESC:Events for Faith Baptist Church - Vernon BC
REFRESH-INTERVAL;VALUE=DURATION:PT1H
X-Robots-Tag:noindex
X-PUBLISHED-TTL:PT1H
BEGIN:VTIMEZONE
TZID:America/Vancouver
BEGIN:DAYLIGHT
TZOFFSETFROM:-0800
TZOFFSETTO:-0700
TZNAME:PDT
DTSTART:20260308T100000
END:DAYLIGHT
BEGIN:STANDARD
TZOFFSETFROM:-0700
TZOFFSETTO:-0800
TZNAME:PST
DTSTART:20261101T090000
END:STANDARD
END:VTIMEZONE
BEGIN:VEVENT
DTSTART;TZID=America/Vancouver:20260513T090000
DTEND;TZID=America/Vancouver:20260513T110000
DTSTAMP:20260425T035044
CREATED:20260424T190729Z
LAST-MODIFIED:20260424T190729Z
UID:4409-1778662800-1778670000@faithbaptistvernon.com
SUMMARY:Wednesday Morning Bible Study
DESCRIPTION:Come join us in the Fireside Room of our church as we take time to sing hymns\, read and discuss Scripture\, and pray for one another. Anyone and everyone is welcome.
URL:https://faithbaptistvernon.com/event/wednesday-morning-bible-study-109/
LOCATION:Faith Baptist Church\, 3908 27 St\, Vernon\, BC\, V1T 4X7
ATTACH;FMTTYPE=image/png:https://faithbaptistvernon.com/wp-content/uploads/2024/01/Wed-Bible-Study.png
END:VEVENT
BEGIN:VEVENT
DTSTART;TZID=America/Vancouver:20260515T083000
DTEND;TZID=America/Vancouver:20260515T110000
DTSTAMP:20260425T035044
CREATED:20260424T191132Z
LAST-MODIFIED:20260424T191132Z
UID:4411-1778833800-1778842800@faithbaptistvernon.com
SUMMARY:Harwood Meal Prep - School Ministry
DESCRIPTION:Do you want to make a difference in our community? Join us as we prepare sandwiches to be given out to Harwood Elementary School to help feed young students in our city. We are always happy for new people to join us and would be delighted to see you come. You can find more information on our Outreach Page.
URL:https://faithbaptistvernon.com/event/harwood-meal-prep-school-ministry-79/
LOCATION:Faith Baptist Church\, 3908 27 St\, Vernon\, BC\, V1T 4X7
ATTACH;FMTTYPE=image/png:https://faithbaptistvernon.com/wp-content/uploads/2025/10/Service-Slides-26.png
END:VEVENT
BEGIN:VEVENT
DTSTART;TZID=America/Vancouver:20260517T100000
DTEND;TZID=America/Vancouver:20260517T120000
DTSTAMP:20260425T035044
CREATED:20260424T191226Z
LAST-MODIFIED:20260424T191226Z
UID:4413-1779012000-1779019200@faithbaptistvernon.com
SUMMARY:Sunday Worship Service
DESCRIPTION:Please join us for our Sunday Worship Service! There will be Biblical teaching out of the book of Ephesians\, live music and corporate singing\, Sunday School (childcare and bible teaching for children 3-12)\, and a nursery space for who would need it. After the service we also have a time of fellowship – coffee\, cookies\, and socializing downstairs in the church basement. Anyone and everyone are welcome to join us as we take time each week to better understand who Jesus of Nazareth is and how His life\, death\, and resurrection impact our lives today.
URL:https://faithbaptistvernon.com/event/sunday-worship-service-100/
LOCATION:Faith Baptist Church\, 3908 27 St\, Vernon\, BC\, V1T 4X7
ATTACH;FMTTYPE=image/png:https://faithbaptistvernon.com/wp-content/uploads/2024/01/Sunday-Service.png
END:VEVENT
BEGIN:VEVENT
DTSTART;TZID=America/Vancouver:20260520T090000
DTEND;TZID=America/Vancouver:20260520T110000
DTSTAMP:20260425T035044
CREATED:20260424T191520Z
LAST-MODIFIED:20260424T191520Z
UID:4415-1779267600-1779274800@faithbaptistvernon.com
SUMMARY:Wednesday Morning Bible Study
DESCRIPTION:Come join us in the Fireside Room of our church as we take time to sing hymns\, read and discuss Scripture\, and pray for one another. Anyone and everyone is welcome.
URL:https://faithbaptistvernon.com/event/wednesday-morning-bible-study-110/
LOCATION:Faith Baptist Church\, 3908 27 St\, Vernon\, BC\, V1T 4X7
ATTACH;FMTTYPE=image/png:https://faithbaptistvernon.com/wp-content/uploads/2024/01/Wed-Bible-Study.png
END:VEVENT
BEGIN:VEVENT
DTSTART;TZID=America/Vancouver:20260522T083000
DTEND;TZID=America/Vancouver:20260522T110000
DTSTAMP:20260425T035044
CREATED:20260424T191621Z
LAST-MODIFIED:20260424T191621Z
UID:4417-1779438600-1779447600@faithbaptistvernon.com
SUMMARY:Harwood Meal Prep - School Ministry
DESCRIPTION:Do you want to make a difference in our community? Join us as we prepare sandwiches to be given out to Harwood Elementary School to help feed young students in our city. We are always happy for new people to join us and would be delighted to see you come. You can find more information on our Outreach Page.
URL:https://faithbaptistvernon.com/event/harwood-meal-prep-school-ministry-80/
LOCATION:Faith Baptist Church\, 3908 27 St\, Vernon\, BC\, V1T 4X7
ATTACH;FMTTYPE=image/png:https://faithbaptistvernon.com/wp-content/uploads/2025/10/Service-Slides-26.png
END:VEVENT
BEGIN:VEVENT
DTSTART;TZID=America/Vancouver:20260524T100000
DTEND;TZID=America/Vancouver:20260524T120000
DTSTAMP:20260425T035044
CREATED:20260424T191724Z
LAST-MODIFIED:20260424T191724Z
UID:4419-1779616800-1779624000@faithbaptistvernon.com
SUMMARY:Sunday Worship Service
DESCRIPTION:Please join us for our Sunday Worship Service! There will be Biblical teaching out of the book of Ephesians\, live music and corporate singing\, Sunday School (childcare and bible teaching for children 3-12)\, and a nursery space for who would need it. After the service we also have a time of fellowship – coffee\, cookies\, and socializing downstairs in the church basement. Anyone and everyone are welcome to join us as we take time each week to better understand who Jesus of Nazareth is and how His life\, death\, and resurrection impact our lives today.
URL:https://faithbaptistvernon.com/event/sunday-worship-service-101/
LOCATION:Faith Baptist Church\, 3908 27 St\, Vernon\, BC\, V1T 4X7
ATTACH;FMTTYPE=image/png:https://faithbaptistvernon.com/wp-content/uploads/2024/01/Sunday-Service.png
END:VEVENT
BEGIN:VEVENT
DTSTART;TZID=America/Vancouver:20260527T090000
DTEND;TZID=America/Vancouver:20260527T110000
DTSTAMP:20260425T035044
CREATED:20260424T191929Z
LAST-MODIFIED:20260424T191929Z
UID:4421-1779872400-1779879600@faithbaptistvernon.com
SUMMARY:Wednesday Morning Bible Study
DESCRIPTION:Come join us in the Fireside Room of our church as we take time to sing hymns\, read and discuss Scripture\, and pray for one another. Anyone and everyone is welcome.
URL:https://faithbaptistvernon.com/event/wednesday-morning-bible-study-111/
LOCATION:Faith Baptist Church\, 3908 27 St\, Vernon\, BC\, V1T 4X7
ATTACH;FMTTYPE=image/png:https://faithbaptistvernon.com/wp-content/uploads/2024/01/Wed-Bible-Study.png
END:VEVENT
BEGIN:VEVENT
DTSTART;TZID=America/Vancouver:20260529T083000
DTEND;TZID=America/Vancouver:20260529T110000
DTSTAMP:20260425T035044
CREATED:20260424T192026Z
LAST-MODIFIED:20260424T192026Z
UID:4423-1780043400-1780052400@faithbaptistvernon.com
SUMMARY:Harwood Meal Prep - School Ministry
DESCRIPTION:Do you want to make a difference in our community? Join us as we prepare sandwiches to be given out to Harwood Elementary School to help feed young students in our city. We are always happy for new people to join us and would be delighted to see you come. You can find more information on our Outreach Page.
URL:https://faithbaptistvernon.com/event/harwood-meal-prep-school-ministry-81/
LOCATION:Faith Baptist Church\, 3908 27 St\, Vernon\, BC\, V1T 4X7
ATTACH;FMTTYPE=image/png:https://faithbaptistvernon.com/wp-content/uploads/2025/10/Service-Slides-26.png
END:VEVENT
BEGIN:VEVENT
DTSTART;TZID=America/Vancouver:20260531T100000
DTEND;TZID=America/Vancouver:20260531T120000
DTSTAMP:20260425T035044
CREATED:20260424T192129Z
LAST-MODIFIED:20260424T192129Z
UID:4425-1780221600-1780228800@faithbaptistvernon.com
SUMMARY:Sunday Worship Service
DESCRIPTION:Please join us for our Sunday Worship Service! There will be Biblical teaching out of the book of Ephesians\, live music and corporate singing\, Sunday School (childcare and bible teaching for children 3-12)\, and a nursery space for who would need it. After the service we also have a time of fellowship – coffee\, cookies\, and socializing downstairs in the church basement. Anyone and everyone are welcome to join us as we take time each week to better understand who Jesus of Nazareth is and how His life\, death\, and resurrection impact our lives today.
URL:https://faithbaptistvernon.com/event/sunday-worship-service-102/
LOCATION:Faith Baptist Church\, 3908 27 St\, Vernon\, BC\, V1T 4X7
ATTACH;FMTTYPE=image/png:https://faithbaptistvernon.com/wp-content/uploads/2024/01/Sunday-Service.png
END:VEVENT
END:VCALENDAR